BEGIN:VCALENDAR
VERSION:2.0
CALSCALE:GREGORIAN
PRODID:-//Diputació de Barcelona//DibaCMS//EN
BEGIN:VEVENT
UID:8908
DTSTAMP:20260421T120849
DTSTART:20261007T190000
DTEND:20261007T200000
SUMMARY:Sessió ordinària de l'Assemblea
LOCATION:08800 Vilanova i la Geltrú
METHOD:PUBLISH
X-WR-CALNAME:info@mancomunitat.cat
X-WR-TIMEZONE:Europe/Madrid
DESCRIPTION:Sessió ordinària de l'Assemblea de Govern de la MPG - 7/10/26

📅 Dia: 7 d' octubre
🕔 Hora: 19h
📍 Lloc: per determinar

URI:https://www.mancomunitat.cat/mancomunitat/agenda-corporativa/8908-sessio-ordinaria-de-lassemblea.html
CLASS:PUBLIC
END:VEVENT
END:VCALENDAR
