BEGIN:VCALENDAR
VERSION:2.0
CALSCALE:GREGORIAN
PRODID:-//Diputació de Barcelona//DibaCMS//EN
BEGIN:VEVENT
UID:8907
DTSTAMP:20260421T144310
DTSTART:20261007T183000
DTEND:20261007T190000
SUMMARY:Sessió ordinària de la Junta de Govern  
LOCATION:08800 Vilanova i la Geltrú
METHOD:PUBLISH
X-WR-CALNAME:info@mancomunitat.cat
X-WR-TIMEZONE:Europe/Madrid
DESCRIPTION:Sessió ordinària de la Junta de Govern de la MPG - 7/10/26

📅 Dia: 7 d' octubre
🕔 Hora: 18:30h
📍 Lloc: per determinar

URI:https://www.mancomunitat.cat/mancomunitat/agenda-corporativa/8907-sessio-ordinaria-de-la-junta-de-govern-.html
CLASS:PUBLIC
END:VEVENT
END:VCALENDAR
