BEGIN:VCALENDAR
VERSION:2.0
CALSCALE:GREGORIAN
PRODID:-//Diputació de Barcelona//DibaCMS//EN
BEGIN:VEVENT
UID:8905
DTSTAMP:20260421T120906
DTSTART:20260909T130000
DTEND:20260909T130000
SUMMARY:Sessió ordinària de la Junta de Govern
LOCATION:08800 Vilanova i la Geltrú
METHOD:PUBLISH
X-WR-CALNAME:info@mancomunitat.cat
X-WR-TIMEZONE:Europe/Madrid
DESCRIPTION:Sessió ordinària de la Junta de Govern de la Mancomunitat Penedès-Garraf - 09/09/26

📅 Dia: 9 de setembre
🕔 Hora: 13h
📍 Lloc: Can Giró - Av. Cubelles, 88 - Vilanova i la Geltrú

URI:https://www.mancomunitat.cat/mancomunitat/agenda-corporativa/8905-sessio-ordinaria-de-la-junta-de-govern.html
CLASS:PUBLIC
END:VEVENT
END:VCALENDAR
