BEGIN:VCALENDAR
VERSION:2.0
CALSCALE:GREGORIAN
PRODID:-//Diputació de Barcelona//DibaCMS//EN
BEGIN:VEVENT
UID:8884
DTSTAMP:20260421T170541
DTSTART:20260915T110000
DTEND:20260915T130000
SUMMARY:Evolució del mercat de treball al Garraf i l'Alt Penedès
LOCATION:08800 Vilanova i la Geltrú
METHOD:PUBLISH
X-WR-CALNAME:info@mancomunitat.cat
X-WR-TIMEZONE:Europe/Madrid
DESCRIPTION:Sessió oberta

📅 Dia: 15 de setembre
🕔 Hora: 11h
📍 Lloc: Centre Àgora · Vilafranca del Penedès (per confirmar)

URI:https://www.mancomunitat.cat/mancomunitat/agenda-corporativa/evolucio-del-mercat-de-treball-al-garraf-i-lalt-penedes.html
CLASS:PUBLIC
END:VEVENT
END:VCALENDAR
