BEGIN:VCALENDAR
VERSION:2.0
CALSCALE:GREGORIAN
PRODID:-//Diputació de Barcelona//DibaCMS//EN
BEGIN:VEVENT
UID:8883
DTSTAMP:20260421T170827
DTSTART:20260618T110000
DTEND:20260618T130000
SUMMARY:Energia, dades i governança: com fer municipis més resilients al Penedès i al Garraf
LOCATION:08800 Vilanova i la Geltrú
METHOD:PUBLISH
X-WR-CALNAME:info@mancomunitat.cat
X-WR-TIMEZONE:Europe/Madrid
DESCRIPTION:Sessió oberta

📅 Dia: 18 de juny
🕔 Hora: 11h
📍 Lloc: Molí del Foix | Santa Margarida i els Monjos (per confirmar)

URI:https://www.mancomunitat.cat/mancomunitat/agenda-corporativa/energia-dades-i-governanca-com-fer-municipis-mes-resilients-al-penedes-i-al-garraf.html
CLASS:PUBLIC
END:VEVENT
END:VCALENDAR
